BEGIN:VCALENDAR
VERSION:2.0
PRODID:-//J. Rosenbaum - ECPv6.15.20//NONSGML v1.0//EN
CALSCALE:GREGORIAN
METHOD:PUBLISH
X-WR-CALNAME:J. Rosenbaum
X-ORIGINAL-URL:https://jrosenbaum.com.au
X-WR-CALDESC:Events for J. Rosenbaum
REFRESH-INTERVAL;VALUE=DURATION:PT1H
X-Robots-Tag:noindex
X-PUBLISHED-TTL:PT1H
BEGIN:VTIMEZONE
TZID:Australia/Melbourne
BEGIN:STANDARD
TZOFFSETFROM:+1100
TZOFFSETTO:+1000
TZNAME:AEST
DTSTART:20220402T160000
END:STANDARD
BEGIN:DAYLIGHT
TZOFFSETFROM:+1000
TZOFFSETTO:+1100
TZNAME:AEDT
DTSTART:20221001T160000
END:DAYLIGHT
BEGIN:STANDARD
TZOFFSETFROM:+1100
TZOFFSETTO:+1000
TZNAME:AEST
DTSTART:20230401T160000
END:STANDARD
BEGIN:DAYLIGHT
TZOFFSETFROM:+1000
TZOFFSETTO:+1100
TZNAME:AEDT
DTSTART:20230930T160000
END:DAYLIGHT
BEGIN:STANDARD
TZOFFSETFROM:+1100
TZOFFSETTO:+1000
TZNAME:AEST
DTSTART:20240406T160000
END:STANDARD
BEGIN:DAYLIGHT
TZOFFSETFROM:+1000
TZOFFSETTO:+1100
TZNAME:AEDT
DTSTART:20241005T160000
END:DAYLIGHT
END:VTIMEZONE
BEGIN:VEVENT
DTSTART;TZID=Australia/Melbourne:20230218T000000
DTEND;TZID=Australia/Melbourne:20230617T235959
DTSTAMP:20260426T113448
CREATED:20231205T201044Z
LAST-MODIFIED:20231205T201044Z
UID:469-1676678400-1687046399@jrosenbaum.com.au
SUMMARY:Break the Binaries
DESCRIPTION:Bend\, blend\, blur or break society’s binary codes as part of BREAK THE BINARIES\, opening soon at Science Gallery Melbourne! \nInstallations from local and international artists will present a playful and kaleidoscopic view of identity and genders\, and their relationship with science\, technology\, culture\, race\, sexuality and creativity. With collaboration at its heart\, this exhibition will create connections and conversation through personal perspectives\, interdisciplinary creative practice and research at The University of Melbourne. \nAs with all Science Gallery Melbourne exhibitions\, BREAK THE BINARIES has been developed together with Curatorial Panel of young people and an Expert Advisory Group\, and features a range of interdisciplinary projects across video\, sound\, sculpture and multimedia. Find out more about them below. \nBREAK THE BINARIES builds on GENDERS: Shaping and Breaking the Binary\, which took place at Science Gallery London\, King’s College London. It will feature key UK artists and collectives including Adham Faramawy and Sadé Mica\, whose works boldly reflect a new wave of hybrid creative practice spanning moving image\, sound\, sculptural installation\, advocating for empowerment and social change. \nSupported by the UK/Australia Season Patrons Board\, the British Council and the Australian Government as part of the UK/Australia Season\, in collaboration with Science Gallery London\, Kings College London. f
URL:https://jrosenbaum.com.au/event/break-the-binaries-3/
LOCATION:Victoria
CATEGORIES:Exhibition
ATTACH;FMTTYPE=image/png:https://jrosenbaum.com.au/wp-content/uploads/2023/12/Screen-Shot-2022-09-15-at-4.28.22-pm-o64FAG.tmp_.png
END:VEVENT
BEGIN:VEVENT
DTSTART;TZID=Australia/Melbourne:20230311T080000
DTEND;TZID=Australia/Melbourne:20230311T170000
DTSTAMP:20260426T113448
CREATED:20231205T201046Z
LAST-MODIFIED:20231205T201046Z
UID:471-1678521600-1678554000@jrosenbaum.com.au
SUMMARY:Gender Tapestry Activation
DESCRIPTION:For One Day Only! \nGender Tapestry will have a live activation at ACMI in Melbourne in Gandel Lab 1. \nUpload your selfie to help train a neural network and become a part of a community mosaic. \nWhen you upload your selfie\, the AI will assign you a colour based on your face\, and will generate a two-tone image of you which will be added to the mosiac. \nSubmit an image of your face to experience gender classification with a twist. Instead of a gender you will receive a custom mixed color version of your image based on your classification results. This generated image is then incorporated into a library of images – a dataset used to create a colorful mosaic of GAN-generated works where the user’s image is added to the GAN to disrupt the outcome. As more people are classified\, more colors are added to the library\, prompting  both the GAN results and the mosaic to grow with increasing complexity.
URL:https://jrosenbaum.com.au/event/gender-tapestry-activation-3/
LOCATION:Victoria
CATEGORIES:Exhibition
ATTACH;FMTTYPE=image/jpeg:https://jrosenbaum.com.au/wp-content/uploads/2023/11/mosaic_1024-9w3D50.tmp_.jpg
END:VEVENT
END:VCALENDAR