BEGIN:VCALENDAR
VERSION:2.0
PRODID:-//J. Rosenbaum - ECPv6.15.20//NONSGML v1.0//EN
CALSCALE:GREGORIAN
METHOD:PUBLISH
X-ORIGINAL-URL:https://jrosenbaum.com.au
X-WR-CALDESC:Events for J. Rosenbaum
REFRESH-INTERVAL;VALUE=DURATION:PT1H
X-Robots-Tag:noindex
X-PUBLISHED-TTL:PT1H
BEGIN:VTIMEZONE
TZID:UTC
BEGIN:STANDARD
TZOFFSETFROM:+0000
TZOFFSETTO:+0000
TZNAME:UTC
DTSTART:20220101T000000
END:STANDARD
END:VTIMEZONE
BEGIN:VEVENT
DTSTART;TZID=UTC:20231127T110000
DTEND;TZID=UTC:20240211T180000
DTSTAMP:20260425T205608
CREATED:20231126T200217Z
LAST-MODIFIED:20240102T162325Z
UID:576-1701082800-1707674400@jrosenbaum.com.au
SUMMARY:Epoch Loop
DESCRIPTION:Set in Stone will be showing at Epoch Loop as part of Hobart Current: Epoch through December to February.  \n\n\n\nEmbark on a visual odyssey with my AI-generated marble faces\, an exploration of gender evolution. The journey begins with the AI mastering fixed\, masculine expressions before gracefully integrating feminine features and then further to break the binary in a looping animation. Watch as the artwork dynamically shifts\, breaking free from traditional confines\, embracing non-binary expressions of color and joy. \n\n\n\nThis conceptual artwork delves into the machine’s process of creating gender representations\, challenging and evolving its biases. A transgender neural network emerges\, navigating the fluidity of gender expression beyond biological norms. The carefully curated datasets\, inspired by classical statuary with a modern twist\, intentionally introduce and then unravel biases\, revealing a metamorphosis as the AI learns and celebrates the diversity of genders and expressions \n\n\n\nEpoch Loop is part of Hobart Current: Epoch Public Programs and will continue to screen on The Loop for the duration of the Hobart Current exhibition. \n\n\n\nWhen: Monday 27 November 2023 – Sunday 11 February 2024Monday to Friday: 11.30 am – 1 pm and 4.30 – 6 pmSaturday and Sunday: 1.30 – 3 pm and 6.30 – 8 pm \n\n\n\nWhere: 157 Elizabeth St\, Central Courtyard\, Hobart \n\n\n\n\nScreening Schedule
URL:https://jrosenbaum.com.au/event/epoch-loop/
LOCATION:The Loop\, 157 Elizabeth St\, Hobart\, Tas\, 7000\, Australia
CATEGORIES:Exhibition
ATTACH;FMTTYPE=image/jpeg:https://jrosenbaum.com.au/wp-content/uploads/2023/12/74361403-EB24-4723-BFE7-CF0AD5F8E8C9-SNykmd.tmp_.jpg
END:VEVENT
END:VCALENDAR