BEGIN:VCALENDAR
VERSION:2.0
PRODID:-//J. Rosenbaum - ECPv6.15.20//NONSGML v1.0//EN
CALSCALE:GREGORIAN
METHOD:PUBLISH
X-WR-CALNAME:J. Rosenbaum
X-ORIGINAL-URL:https://jrosenbaum.com.au
X-WR-CALDESC:Events for J. Rosenbaum
REFRESH-INTERVAL;VALUE=DURATION:PT1H
X-Robots-Tag:noindex
X-PUBLISHED-TTL:PT1H
BEGIN:VTIMEZONE
TZID:Australia/Melbourne
BEGIN:STANDARD
TZOFFSETFROM:+1100
TZOFFSETTO:+1000
TZNAME:AEST
DTSTART:20160402T160000
END:STANDARD
BEGIN:DAYLIGHT
TZOFFSETFROM:+1000
TZOFFSETTO:+1100
TZNAME:AEDT
DTSTART:20161001T160000
END:DAYLIGHT
BEGIN:STANDARD
TZOFFSETFROM:+1100
TZOFFSETTO:+1000
TZNAME:AEST
DTSTART:20170401T160000
END:STANDARD
BEGIN:DAYLIGHT
TZOFFSETFROM:+1000
TZOFFSETTO:+1100
TZNAME:AEDT
DTSTART:20170930T160000
END:DAYLIGHT
BEGIN:STANDARD
TZOFFSETFROM:+1100
TZOFFSETTO:+1000
TZNAME:AEST
DTSTART:20180331T160000
END:STANDARD
BEGIN:DAYLIGHT
TZOFFSETFROM:+1000
TZOFFSETTO:+1100
TZNAME:AEDT
DTSTART:20181006T160000
END:DAYLIGHT
BEGIN:STANDARD
TZOFFSETFROM:+1100
TZOFFSETTO:+1000
TZNAME:AEST
DTSTART:20190406T160000
END:STANDARD
BEGIN:DAYLIGHT
TZOFFSETFROM:+1000
TZOFFSETTO:+1100
TZNAME:AEDT
DTSTART:20191005T160000
END:DAYLIGHT
BEGIN:STANDARD
TZOFFSETFROM:+1100
TZOFFSETTO:+1000
TZNAME:AEST
DTSTART:20200404T160000
END:STANDARD
BEGIN:DAYLIGHT
TZOFFSETFROM:+1000
TZOFFSETTO:+1100
TZNAME:AEDT
DTSTART:20201003T160000
END:DAYLIGHT
END:VTIMEZONE
BEGIN:VEVENT
DTSTART;TZID=Australia/Melbourne:20190513T000000
DTEND;TZID=Australia/Melbourne:20190513T235959
DTSTAMP:20260424T075246
CREATED:20231205T200945Z
LAST-MODIFIED:20231205T200945Z
UID:442-1557705600-1557791999@jrosenbaum.com.au
SUMMARY:VoxxedDays Melbourne 2019
DESCRIPTION:I will discuss my journey to bridge the digital world and the physical world with my Augmented Reality and Artificial Intelligence based artworks and demonstrate artworks made by other artists working in AR and AI while discussing the technologies involved and the impact they will have on development\, art and the way we view the world. \nFrom computer vision to style transfers\, Generative Adversarial Networks and Image Classifiers and Augmented Reality platforms\, I will explore the highs\, the lows\, the creepy and the exciting moments that come from working as an artist collaborating with a computer.
URL:https://jrosenbaum.com.au/event/voxxeddays-melbourne-2019-3/
CATEGORIES:Talk
ATTACH;FMTTYPE=image/jpeg:https://jrosenbaum.com.au/wp-content/uploads/2023/12/D5Sw_QKUwAEZiNc-KFG1Fn.tmp_.jpg
END:VEVENT
BEGIN:VEVENT
DTSTART;TZID=Australia/Melbourne:20190506T133000
DTEND;TZID=Australia/Melbourne:20190506T140000
DTSTAMP:20260424T075246
CREATED:20231205T200945Z
LAST-MODIFIED:20231205T200945Z
UID:440-1557149400-1557151200@jrosenbaum.com.au
SUMMARY:Yow! Data 2019
DESCRIPTION:We begin with a story\, the story of how I went from a painter to an artist working in the latest technologies. I will discuss how I fell into this line of research in my masters and how I am hooked on it now. I will provide practical knowledge about developing AR applications\, using Machine learning and marrying the two together. I will explore web GL and new mobile versions of machine learning frameworks and how they relate to modes of mixed reality.
URL:https://jrosenbaum.com.au/event/yow-data-2019-3/
CATEGORIES:Talk
ATTACH;FMTTYPE=image/jpeg:https://jrosenbaum.com.au/wp-content/uploads/2023/12/1-3HGZsw.tmp_.jpg
END:VEVENT
BEGIN:VEVENT
DTSTART;TZID=Australia/Melbourne:20190123T113000
DTEND;TZID=Australia/Melbourne:20190123T123000
DTSTAMP:20260424T075246
CREATED:20231205T200943Z
LAST-MODIFIED:20231205T200943Z
UID:437-1548243000-1548246600@jrosenbaum.com.au
SUMMARY:LCA 2019 - AI and AR a match made in heaven
DESCRIPTION:I will discuss my journey to bridge the digital world and the physical world with my Augmented Reality and Artificial Intelligence based artworks and demonstrate artworks made by other artists working in AR and AI while discussing the technologies involved and the impact they will have on development\, art and the way we view the world. \nFrom computer vision to style transfers\, Generative Adversarial Networks and Image Classifiers and Augmented Reality platforms\, I will explore the highs\, the lows\, the creepy and the exciting moments that come from working as an artist collaborating with a computer. \nThe slides are available here \nC2 | Wed 23 Jan | 11:35 a.m.–12:20 p.m.
URL:https://jrosenbaum.com.au/event/lca-2019-ai-and-ar-a-match-made-in-heaven-3/
CATEGORIES:Talk
ATTACH;FMTTYPE=image/jpeg:https://jrosenbaum.com.au/wp-content/uploads/2023/12/60F72FEF-1A9B-458F-B4EE-5A026E549E4B-R5UjBr.tmp_.jpg
END:VEVENT
BEGIN:VEVENT
DTSTART;TZID=Australia/Melbourne:20190122T133000
DTEND;TZID=Australia/Melbourne:20190122T141500
DTSTAMP:20260424T075246
CREATED:20231205T200944Z
LAST-MODIFIED:20231205T200944Z
UID:439-1548163800-1548166500@jrosenbaum.com.au
SUMMARY:LCA2019 - Mixed Reality and Art- the quest for the shiny
DESCRIPTION:For the Art + Tech Miniconf I will be discussing Not getting off track as you explore the latest technologies and my works to date. \nMIXED REALITY AND ART: THE QUEST FOR THE SHINY\nAugmented Reality and Virtual Reality are this year’s hottest buzzwords when it comes to art. Are they just gimmicks or is there something deeper behind the work? When artists can create whole immersive worlds or blur the line between the digital and the real what we have to say is still of the most importance. This talk is about the latest technologies and how to stay on track and not get (too) distracted by the shiny new other options out there! J Rosenbaum is a digital artist working in 3D Modeling and Augmented Reality with Machine Learning based interactions. Join us as they unpack what new technology brings to art and what artists bring to new technologies. \nA1 | Tue 22 Jan | 1:30 p.m.–2:15 p.m. \nThe slides for this talk are now available online
URL:https://jrosenbaum.com.au/event/lca2019-mixed-reality-and-art-the-quest-for-the-shiny-3/
CATEGORIES:Talk
ATTACH;FMTTYPE=image/jpeg:https://jrosenbaum.com.au/wp-content/uploads/2023/11/B9EE0E57-530D-4CFC-A29E-40AF2A74432C-bqmP60.tmp_.jpg
END:VEVENT
BEGIN:VEVENT
DTSTART;TZID=Australia/Melbourne:20181122T180000
DTEND;TZID=Australia/Melbourne:20181122T203000
DTSTAMP:20260424T075246
CREATED:20231205T200930Z
LAST-MODIFIED:20231205T200930Z
UID:436-1542909600-1542918600@jrosenbaum.com.au
SUMMARY:Un Magazine Launch and reading
DESCRIPTION:Issue 12.2: Strategic Liaisons\, co-edited by Maddee Clark & Neika Lehman\, is available in print and online. The print edition of un Magazine is distributed and available for free at galleries and outlets across Australia and internationally.\n“I was having dinner with Métis critical writer & painter\, curator & editor David Garneau recently\, and he shared his firm belief that a collaboration is not such without significant disturbance. We talked about this in relation to cross-cultural collaborations\, but we agreed that his theory is always applicable. Collaboration is bandied around a lot and\, as Bhenji Ra points out in her piece in this issue\, if we think about the very real historical legacies of others’ ideas on our own\, then we’re always in relation to an other’s creative practice. But Garneau would say that a simple ‘coming together’ does not necessitate collaboration. Nor can collaboration simply be based in technique. The basis is in each party’s disturbance. It doesn’t have to be some incalcitrant scene of quarrel and chaos. But the psychic shift has to be pronounced\, a disturbance to your life-world. And when it comes to the inter-cultural\, power lines have to be shaken …”\n— from Editorial\, un Magazine 12.2\nFeaturing writing & art by: Kate ten Buuren\, Dennis Golding\, Anna Dunnill & Danni McGrath\, Francis & Spaghetti\, Emma Size\, Warraba Weatherall\, Amanda Hayman\, Troy Casey\, Jenna Green\, Marisa Georgiou\, J. Rosenbaum\, Bhenji Ra\, Madeleine Stack\, Mick Klepner Roe\, Ainslie Templeton\, Destiny Deacon & Virginia Fraser\, Logan MacDonald\, Yasbelle Kerkow\, Ella Benore Rowe\, Therese Keogh & Jacqui Shelton\, Sarah L. Thomson\, Rosie Isaac & Liv Koh\, Amber Wright\, Sally Olds & Rosie Funder\, Michael Spooner & Darius Le\, Genevieve Trail\, Stéphanie Kabanyana Kanyandekwe\, Single Brown Female\, Diana Baker Smith & Kelly Doley.\nCover image:\nDestiny Deacon & Virginia Fraser\nSnap out of it\, 2014\nvideo still\nCourtesy the artists and Roslyn Oxley9 Gallery
URL:https://jrosenbaum.com.au/event/un-magazine-launch-and-reading-3/
CATEGORIES:Talk
ATTACH;FMTTYPE=image/jpeg:https://jrosenbaum.com.au/wp-content/uploads/2023/11/pedestal2a-copy-OYMp5R.tmp_.jpg
END:VEVENT
BEGIN:VEVENT
DTSTART;TZID=Australia/Melbourne:20180915T080000
DTEND;TZID=Australia/Melbourne:20180915T170000
DTSTAMP:20260424T075246
CREATED:20231205T200929Z
LAST-MODIFIED:20231205T200929Z
UID:434-1536998400-1537030800@jrosenbaum.com.au
SUMMARY:Mixed Reality and Art
DESCRIPTION:This talk is about mixed reality technologies\, Virtual Reality\, Augmented Reality and how they can be beneficial to artists and exploring art in depth. I will go behind the code to the amazing things this technology currently does\, what it can reveal and how it is currently being used for good and for ill. I will also discuss how easy it is to get off track on your project\, as an artist or as a developer and what we need to bear in mind as we navigate the different streams of development and art \nI am an artist and a developer\, and will be pitching this talk for people who are interested in both or who would like a new way to look at existing technologies to see the potential beneath. I speak with the experience of someone who has developed my own Augmented Reality applications and used it to create award winning art. \nThis talk brings value in terms of looking at the way we currently approach technologies as to how we could be approaching them and is a light and fun introduction to mixed and immersive reality options.
URL:https://jrosenbaum.com.au/event/mixed-reality-and-art-3/
CATEGORIES:Talk
ATTACH;FMTTYPE=image/jpeg:https://jrosenbaum.com.au/wp-content/uploads/2023/11/Screen-Shot-2017-03-29-at-8.33.43-PM-dSVFGC.tmp_.jpg
END:VEVENT
BEGIN:VEVENT
DTSTART;TZID=Australia/Melbourne:20180824T000000
DTEND;TZID=Australia/Melbourne:20180828T235959
DTSTAMP:20260424T075246
CREATED:20231205T200928Z
LAST-MODIFIED:20231205T200928Z
UID:432-1535068800-1535500799@jrosenbaum.com.au
SUMMARY:PyCon - Creepy\, frivolous and beautiful art made with machines
DESCRIPTION:Join me at PyCon in August for a discussion on how artists use python And machine learning to create creepy\, frivolous and beautiful art. \nAn exploration of digital art looking at the uses of machine learning and how it impacts the future of art. What can we learn from art created using neural networks and what can we create? From the frivolous to the beautiful\, what does art created by computers look like and where can it take us? \nDownload my pyconau 2018 slides \n 
URL:https://jrosenbaum.com.au/event/pycon-creepy-frivolous-and-beautiful-art-made-with-machines-3/
CATEGORIES:Talk
ATTACH;FMTTYPE=image/jpeg:https://jrosenbaum.com.au/wp-content/uploads/2023/11/E4B00DD6-0E12-4093-A26F-173E1DC4F27B-E2tYu3.tmp_.jpg
END:VEVENT
BEGIN:VEVENT
DTSTART;TZID=Australia/Melbourne:20180510T080000
DTEND;TZID=Australia/Melbourne:20180511T170000
DTSTAMP:20260424T075246
CREATED:20231205T200913Z
LAST-MODIFIED:20231205T200913Z
UID:429-1525939200-1526058000@jrosenbaum.com.au
SUMMARY:The Future of Art - Devoxx UK
DESCRIPTION:Mind the Geek\nMost people are aware of the impact machine learning will have on jobs\, on the future of research and autonomous machines\, but few seem to be aware of the future role machine learning could play in the creative arts\, in visual art and music. What will art be like when artists and musicians routinely work collaboratively with machines to create new and interesting artworks? What can we learn from art created using neural networks and what can we create? From the frivolous to the beautiful what does art created by computers look like and where can it take us? This talk will explore magenta in tensorflow and neural style in caffe\, google deep dream\, next Rembrandt\, and convolutional neural networks\, generative adversarial networks and more. I will look into some of the beautiful applications of machine learning in art and some of the ridiculous ones as well. \nDevoxxUK 2018 Slides
URL:https://jrosenbaum.com.au/event/the-future-of-art-devoxx-uk-3/
CATEGORIES:Talk
ATTACH;FMTTYPE=image/jpeg:https://jrosenbaum.com.au/wp-content/uploads/2023/11/53C8D267-5675-4623-AB1E-A361AA3F1D04-9dDZc8.tmp_.jpg
END:VEVENT
BEGIN:VEVENT
DTSTART;TZID=Australia/Melbourne:20180502T000000
DTEND;TZID=Australia/Melbourne:20180503T235959
DTSTAMP:20260424T075246
CREATED:20231205T200914Z
LAST-MODIFIED:20231205T200914Z
UID:431-1525219200-1525391999@jrosenbaum.com.au
SUMMARY:Voxxed Days Melbourne - The Future of Art
DESCRIPTION:An exploration of digital art looking at the uses of machine learning and how it impacts the future of art. What is art like when artists and musicians work collaboratively with machines? What can we learn from art created using neural networks and what can we create? From the frivolous to the beautiful\, what does art created by computers look like and where can it take us? \nI will be discussing Machine Learning and how different aspects of this technology can help us in our creative pursuits. \nVoxxed Days in an international\, community conference for developers organised by\, in this case\, Melbourne locals. The goal of this conference is to learn about what other like-minded folk are doing in the industry: what’s new\, what’s new old\, what issues others are facing in the tech world and how they fix them\, and so on and so on. \nJoin us for an different conference experience where passionate devs can gather together and have a chat\, hack around\, have a drink or two\, enjoy food from food trucks\, learn something new and get inspired. It is designed to promote collaboration across the whole IT community. \nVoxxeddays Melbourne 2018 Slides \n  \n 
URL:https://jrosenbaum.com.au/event/voxxed-days-melbourne-the-future-of-art-3/
CATEGORIES:Talk
END:VEVENT
BEGIN:VEVENT
DTSTART;TZID=Australia/Melbourne:20180426T180000
DTEND;TZID=Australia/Melbourne:20180426T203000
DTSTAMP:20260424T075246
CREATED:20231205T200914Z
LAST-MODIFIED:20231205T200914Z
UID:430-1524765600-1524774600@jrosenbaum.com.au
SUMMARY:OpenLAB
DESCRIPTION:OpenLAB showcases the varied practices and uses of technology in the creative industries\, presented by Media Lab Melbourne in partnership with ACMI X. For OpenLAB April Media Lab Melbourne is teaming up with QueerTech.io to celebrate Queer creatives! \nI will be discussing the inspirations and practices behind my work. The successes\, the failures and the directions it is moving. I will explore the Augmented Reality technologies\, 3D modeling and Machine Learning used to create my work. \n 
URL:https://jrosenbaum.com.au/event/openlab-3/
CATEGORIES:Talk
ATTACH;FMTTYPE=image/jpeg:https://jrosenbaum.com.au/wp-content/uploads/2023/11/022D6061-B8D9-48AC-B401-3C6FCA222BAB-e1522923987638-w6k0UX.tmp_.jpg
END:VEVENT
BEGIN:VEVENT
DTSTART;TZID=Australia/Melbourne:20180123T104500
DTEND;TZID=Australia/Melbourne:20180123T113000
DTSTAMP:20260424T075246
CREATED:20231205T200912Z
LAST-MODIFIED:20231205T200912Z
UID:426-1516704300-1516707000@jrosenbaum.com.au
SUMMARY:The Future of Art - Art+Tech LCA2018
DESCRIPTION:I will be presenting the Opening Keynote at the Art + Tech Miniconf at Linuxconf this year. Based at UTS Sydney this talk will explore the future of Art\, Generative Art\, Machine Learning\, Augmented Reality and the wonderful and creepy things people are making.\n\n\nMost people are aware of the impact machine learning will have on jobs\, on the future of research and autonomous machines\, but few seem to be aware of the future role machine learning could play in the creative arts\, in visual art and music. What will art be like when artists and musicians routinely work collaboratively with machines to create new and interesting artworks? What can we learn from art created using neural networks and what can we create? From the frivolous to the beautiful what does art created by computers look like and where can it take us? This talk will explore magenta in tensorflow and neural style in caffe\, google deep dream\, next Rembrandt\, and convolutional neural networks. I will look into some of the beautiful applications of machine learning in art and some of the ridiculous ones as well. From paint samples to autonomous works I will explore the joys and horrors of machine learning for artistic purposes. I will also touch on the emotional impact of digital art including the uncanny valley.\n\nLCA2018 Future of Art – Slides
URL:https://jrosenbaum.com.au/event/the-future-of-art-arttech-lca2018-3/
CATEGORIES:Talk
END:VEVENT
BEGIN:VEVENT
DTSTART;TZID=Australia/Melbourne:20171201T170000
DTEND;TZID=Australia/Melbourne:20171204T120000
DTSTAMP:20260424T075246
CREATED:20231205T200907Z
LAST-MODIFIED:20231205T200907Z
UID:422-1512147600-1512388800@jrosenbaum.com.au
SUMMARY:ART-IFICIAL INTELLIGENCE: Creepy\, Frivolous And Beautiful Art Made With Machines
DESCRIPTION:An exploration of digital art looking at the history of some of the delightfully frivolous uses of machine learning and how it impacts the future of art. From paint samples to autonomous works I will explore the joys and horrors of machine learning for artistic purposes. I will also touch on the emotional impact of digital art including the uncanny valley\, puppyslugs and face app. \nBuzzConf slides 2017
URL:https://jrosenbaum.com.au/event/art-ificial-intelligence-creepy-frivolous-and-beautiful-art-made-with-machines-3/
CATEGORIES:Talk
ATTACH;FMTTYPE=image/jpeg:https://jrosenbaum.com.au/wp-content/uploads/2023/11/Them-scaled-t9TOzc.tmp_.jpg
END:VEVENT
BEGIN:VEVENT
DTSTART;TZID=Australia/Melbourne:20170918T095000
DTEND;TZID=Australia/Melbourne:20170918T102000
DTSTAMP:20260424T075246
CREATED:20231205T200908Z
LAST-MODIFIED:20231205T200908Z
UID:423-1505728200-1505730000@jrosenbaum.com.au
SUMMARY:YOW Data - The Future of Art
DESCRIPTION:Most people are aware of the impact machine learning will have on jobs\, on the future of research and autonomous machines\, but few seem to be aware of the future role machine learning could play in the creative arts\, in visual art and music. What will art be like when artists and musicians routinely work collaboratively with machines to create new and interesting artworks? What can we learn from art created using neural networks and what can we create? From the frivolous to the beautiful what does art created by computers look like and where can it take us? \nThis talk will explore magenta in tensorflow and neural style in caffe\, google deep dream\, next Rembrandt\, and convolutional neural networks. I will look into some of the beautiful applications of machine learning in art and some of the ridiculous ones as well.
URL:https://jrosenbaum.com.au/event/yow-data-the-future-of-art-3/
CATEGORIES:Talk
END:VEVENT
BEGIN:VEVENT
DTSTART;TZID=Australia/Melbourne:20170620T180000
DTEND;TZID=Australia/Melbourne:20170620T233000
DTSTAMP:20260424T075246
CREATED:20231205T200909Z
LAST-MODIFIED:20231205T200909Z
UID:424-1497981600-1498001400@jrosenbaum.com.au
SUMMARY:Real World VR - VR / AR / MR Forum Q&A Demos THE ARTS SESSION
DESCRIPTION:This session focuses on emerging VR / AR / MR / 3D artists who are utilising new technologies in the arts. \nOn the night the audience will get to hear from some of the industries most talented immersive artists who will discuss their work\, process and the future of this industry. \nFormat includes a high-profile speakers forum\, Q&A session\, VR / AR exhibitions\, live Google Tiltbrush performance\, 3D mapping\, VR  equipment & software demonstrations (Works showcased on Samsung Gear VR & Google Cardboard headsets)\, HTC Vive Demos\, networking drinks\, nibbles and Kaiju Beer specials! \nGUEST SPEAKERS: \nJennie Rosenbaum – Contemporary figurative artist & 3D modeller working with Augmented Reality.\nCy Gorman – Music producer\, film maker\, interdisciplinary researcher\, sound and lighting/video designer & storyteller working with Mixed Reality.\nMarc-O-Matic – Multidisciplinary artist and immersive animator working with Augmented Reality.\nKrystal Schultheiss – Motion & graphics designer\, VJ & projection artist working with 3D mapping. \nReal World VR – Arts Session\nTuesday 20th June\nLoop Project Space & Bar\, 23 Meyers Place\, Melbourne\nDoors open at 6pm\nSpeakers commence at 6.30pm\nDemonstrations from 8.30pm
URL:https://jrosenbaum.com.au/event/real-world-vr-vr-ar-mr-forum-qa-demos-the-arts-session-3/
CATEGORIES:Talk
END:VEVENT
END:VCALENDAR