BEGIN:VCALENDAR
VERSION:2.0
PRODID:-//J. Rosenbaum - ECPv6.15.20//NONSGML v1.0//EN
CALSCALE:GREGORIAN
METHOD:PUBLISH
X-ORIGINAL-URL:https://jrosenbaum.com.au
X-WR-CALDESC:Events for J. Rosenbaum
REFRESH-INTERVAL;VALUE=DURATION:PT1H
X-Robots-Tag:noindex
X-PUBLISHED-TTL:PT1H
BEGIN:VTIMEZONE
TZID:Australia/Melbourne
BEGIN:STANDARD
TZOFFSETFROM:+1100
TZOFFSETTO:+1000
TZNAME:AEST
DTSTART:20220402T160000
END:STANDARD
BEGIN:DAYLIGHT
TZOFFSETFROM:+1000
TZOFFSETTO:+1100
TZNAME:AEDT
DTSTART:20221001T160000
END:DAYLIGHT
BEGIN:STANDARD
TZOFFSETFROM:+1100
TZOFFSETTO:+1000
TZNAME:AEST
DTSTART:20230401T160000
END:STANDARD
BEGIN:DAYLIGHT
TZOFFSETFROM:+1000
TZOFFSETTO:+1100
TZNAME:AEDT
DTSTART:20230930T160000
END:DAYLIGHT
BEGIN:STANDARD
TZOFFSETFROM:+1100
TZOFFSETTO:+1000
TZNAME:AEST
DTSTART:20240406T160000
END:STANDARD
BEGIN:DAYLIGHT
TZOFFSETFROM:+1000
TZOFFSETTO:+1100
TZNAME:AEDT
DTSTART:20241005T160000
END:DAYLIGHT
END:VTIMEZONE
BEGIN:VEVENT
DTSTART;TZID=Australia/Melbourne:20230818T000000
DTEND;TZID=Australia/Melbourne:20230820T235959
DTSTAMP:20260426T011013
CREATED:20231205T201059Z
LAST-MODIFIED:20240101T195700Z
UID:474-1692316800-1692575999@jrosenbaum.com.au
SUMMARY:PyConAU
DESCRIPTION:I’m headed to PyconAu for two talks this year\, I’ll be presenting Roll for Initiative as a keynote on the Friday and Gender Tapestry on the Saturday. \nRoll for InitiativeYour team has gathered to fight bias\, your tool\, AI. How do you muster your forces and all of the abilities at your disposal to fight and slay your fearsome foe? Using all of the lawful and chaotic good tools available\, how do you create a balanced party and slay the Beasts of Bias; racism\, sexism and queerphobia? Can it be done? Venture together with me into the seedier side of AI as we band together to fight algorithmic injustice and create a better world.https://2023.pycon.org.au/program/ZDDVWK/  \n5e compatable one shot module – PcAu_Campaign ModuleSlides – PyConAU Roll for Initiative Slides \nGender TapestryWhat is gender? It is easy to imagine gender as a linear spectrum\, but in my research I have explored the concept that gender is more like a three dimensional spectrum of color. I posit that we all experience gender slightly differently\, just like we experience color slightly differently. Therefore\, I built an online project using Python and Flask to classify people as individual colors rather than genders\, to create a tapestry of gender. and show gender as a literal\, individual\, spectrum.https://2023.pycon.org.au/program/LZDHUW/ Slides – PyConAu Gender Tapestry slides \nSlides for Both talks will be available after and a transcript will be available if you need one.
URL:https://jrosenbaum.com.au/event/pyconau-2/
LOCATION:Victoria
CATEGORIES:Talk
ATTACH;FMTTYPE=image/jpeg:https://jrosenbaum.com.au/wp-content/uploads/2023/12/mosaic_1024-QiXCGh.tmp_.jpg
END:VEVENT
END:VCALENDAR