BEGIN:VCALENDAR
VERSION:2.0
PRODID:-//J. Rosenbaum - ECPv6.15.20//NONSGML v1.0//EN
CALSCALE:GREGORIAN
METHOD:PUBLISH
X-WR-CALNAME:J. Rosenbaum
X-ORIGINAL-URL:https://jrosenbaum.com.au
X-WR-CALDESC:Events for J. Rosenbaum
REFRESH-INTERVAL;VALUE=DURATION:PT1H
X-Robots-Tag:noindex
X-PUBLISHED-TTL:PT1H
BEGIN:VTIMEZONE
TZID:Australia/Melbourne
BEGIN:STANDARD
TZOFFSETFROM:+1100
TZOFFSETTO:+1000
TZNAME:AEST
DTSTART:20220402T160000
END:STANDARD
BEGIN:DAYLIGHT
TZOFFSETFROM:+1000
TZOFFSETTO:+1100
TZNAME:AEDT
DTSTART:20221001T160000
END:DAYLIGHT
BEGIN:STANDARD
TZOFFSETFROM:+1100
TZOFFSETTO:+1000
TZNAME:AEST
DTSTART:20230401T160000
END:STANDARD
BEGIN:DAYLIGHT
TZOFFSETFROM:+1000
TZOFFSETTO:+1100
TZNAME:AEDT
DTSTART:20230930T160000
END:DAYLIGHT
BEGIN:STANDARD
TZOFFSETFROM:+1100
TZOFFSETTO:+1000
TZNAME:AEST
DTSTART:20240406T160000
END:STANDARD
BEGIN:DAYLIGHT
TZOFFSETFROM:+1000
TZOFFSETTO:+1100
TZNAME:AEDT
DTSTART:20241005T160000
END:DAYLIGHT
END:VTIMEZONE
BEGIN:VEVENT
DTSTART;TZID=Australia/Melbourne:20231016T090000
DTEND;TZID=Australia/Melbourne:20231016T170000
DTSTAMP:20260425T221226
CREATED:20231205T201101Z
LAST-MODIFIED:20231205T201101Z
UID:475-1697446800-1697475600@jrosenbaum.com.au
SUMMARY:Symposium on Diversity and Inclusion in Artificial Intelligence
DESCRIPTION:J. Rosenbaum will be presenting a paper on their work Gender Tapestry at The CSIRO Data 61 Symposium on Diversity and Inclusion in Artificial Intelligence in Sydney and Online. \nIn recent years\, the impacts of Artificial Intelligence (AI) on many aspects of society have been profound\, affecting human lives and experiences in a multitude of ways. There’s a growing realization that AI systems must not only be useful but also ethically and responsibly designed\, encompassing principles of diversity and inclusion. \n 
URL:https://jrosenbaum.com.au/event/symposium-on-diversity-and-inclusion-in-artificial-intelligence-2/
LOCATION:Victoria
CATEGORIES:Talk
END:VEVENT
END:VCALENDAR