BEGIN:VCALENDAR
VERSION:2.0
PRODID:-//J. Rosenbaum - ECPv6.15.20//NONSGML v1.0//EN
CALSCALE:GREGORIAN
METHOD:PUBLISH
X-WR-CALNAME:J. Rosenbaum
X-ORIGINAL-URL:https://jrosenbaum.com.au
X-WR-CALDESC:Events for J. Rosenbaum
REFRESH-INTERVAL;VALUE=DURATION:PT1H
X-Robots-Tag:noindex
X-PUBLISHED-TTL:PT1H
BEGIN:VTIMEZONE
TZID:UTC
BEGIN:STANDARD
TZOFFSETFROM:+0000
TZOFFSETTO:+0000
TZNAME:UTC
DTSTART:20230101T000000
END:STANDARD
END:VTIMEZONE
BEGIN:VEVENT
DTSTART;TZID=UTC:20240301T110000
DTEND;TZID=UTC:20240504T170000
DTSTAMP:20260425T224933
CREATED:20231211T185735Z
LAST-MODIFIED:20240102T162435Z
UID:523-1709290800-1714842000@jrosenbaum.com.au
SUMMARY:Execute_Photography
DESCRIPTION:Interact with Gender Tapestry\, a community driven AI artwork that seeks to explore a new way to  during a new installation at Execute_Photography as part of Photo2024Photography is constantly dying and being reborn. AI represents the latest stage of photography’s transformation into a software output\, cannibalising the camera and even transforming it into a set of executable text prompts. If it is now clear that photography is a kind of ‘program’\, and that images are operational\, actionable and scrapable\, what does this mean for the future of the medium? Both an exploration and a provocation\, this exhibition features work by Australian and international artists speculating on the social and political ramifications of photography’s afterlives.  \n\n\n\nExhibition Curators: Alison Bennett\, Shane Hulbert\, Daniel Palmer\, Katrina Sluis  \n\n\n\nArtists include: Memo Akten\, Amrita Hepi\, Max Pinckers and Dries Depoorter\, Rosa Menkman\, Sara Oscar\, J. Rosenbaum\, Sebastian Schmieg and Alan Warburton
URL:https://jrosenbaum.com.au/event/execute_photography/
LOCATION:RMIT Gallery\, 344 Swanston St\, Melbourne\, Victoria\, 3000\, Australia
CATEGORIES:Exhibition
ATTACH;FMTTYPE=image/jpeg:https://jrosenbaum.com.au/wp-content/uploads/2023/12/mosaic240.jpg
END:VEVENT
END:VCALENDAR