BEGIN:VCALENDAR
VERSION:2.0
PRODID:-//J. Rosenbaum - ECPv6.15.20//NONSGML v1.0//EN
CALSCALE:GREGORIAN
METHOD:PUBLISH
X-WR-CALNAME:J. Rosenbaum
X-ORIGINAL-URL:https://jrosenbaum.com.au
X-WR-CALDESC:Events for J. Rosenbaum
REFRESH-INTERVAL;VALUE=DURATION:PT1H
X-Robots-Tag:noindex
X-PUBLISHED-TTL:PT1H
BEGIN:VTIMEZONE
TZID:UTC
BEGIN:STANDARD
TZOFFSETFROM:+0000
TZOFFSETTO:+0000
TZNAME:UTC
DTSTART:20230101T000000
END:STANDARD
END:VTIMEZONE
BEGIN:VEVENT
DTSTART;TZID=UTC:20240619T103000
DTEND;TZID=UTC:20240621T184500
DTSTAMP:20260425T094337
CREATED:20240530T183659Z
LAST-MODIFIED:20240530T183702Z
UID:1002-1718793000-1718995500@jrosenbaum.com.au
SUMMARY:CVPR2024 Art Gallery
DESCRIPTION:Gender Tapestry is one of the chosen artworks taking part in this year’s CVPR art gallery online and at the conference.  \n\n\n\nThe CVPR AI Art Gallery will be open to the public Wednesday\, 19 June through Friday\, 21 June from 10:30 a.m. to 6:45 p.m. PDT. A one-day exhibit pass will be available onsite\, and guided tours will also be available on Wednesday and Thursday at 11 a.m. and 5 p.m. PDT and Friday at 11 a.m. PDT only. Cash prizes for the best artworks will be awarded on Thursday\, 20 June.
URL:https://jrosenbaum.com.au/event/cvpr2024-art-gallery/
LOCATION:Seattle Convention Center\, 705 Pine St\, Seattle\, Washington\, 98101\, United States
CATEGORIES:Exhibition
ATTACH;FMTTYPE=image/jpeg:https://jrosenbaum.com.au/wp-content/uploads/2023/12/mosaic_2-scaled.jpg
END:VEVENT
BEGIN:VEVENT
DTSTART;TZID=UTC:20240628T080000
DTEND;TZID=UTC:20240728T170000
DTSTAMP:20260425T094337
CREATED:20240317T210317Z
LAST-MODIFIED:20240715T220858Z
UID:954-1719561600-1722186000@jrosenbaum.com.au
SUMMARY:Knox Immerse 2024 - Set in Stone
DESCRIPTION:Set in Stone is going huge for Knox Immerse 2024 Festival! This exhibition will show a new site specific installation of my work exhibiting the debiasing of an AI system as well as a new augmented reality interaction with the work using WebAR. Head down to the brand new Knox Gallery to see the installation in the Youth Hive including a large scale wallpaper\, AR and a video feed and be immersed in AI for good. \n\n\n\nThis work is a look at gender through the lens of a biased AI system that becomes un-biased over time showing that we can update our datasets to make better AI systems.I will be conducting a workshop on self expression with AI as well so keep an eye out for more information.
URL:https://jrosenbaum.com.au/event/knox-immerse-2024/
LOCATION:Knox Library\, 425 Burwood Hwy\, Wantirna South\, Victoria\, 3152\, Australia
CATEGORIES:Exhibition
ATTACH;FMTTYPE=image/png:https://jrosenbaum.com.au/wp-content/uploads/2024/03/mosaic_6_sm.png
END:VEVENT
END:VCALENDAR