BEGIN:VCALENDAR
VERSION:2.0
PRODID:-//J. Rosenbaum - ECPv6.15.20//NONSGML v1.0//EN
CALSCALE:GREGORIAN
METHOD:PUBLISH
X-ORIGINAL-URL:https://jrosenbaum.com.au
X-WR-CALDESC:Events for J. Rosenbaum
REFRESH-INTERVAL;VALUE=DURATION:PT1H
X-Robots-Tag:noindex
X-PUBLISHED-TTL:PT1H
BEGIN:VTIMEZONE
TZID:Australia/Melbourne
BEGIN:STANDARD
TZOFFSETFROM:+1100
TZOFFSETTO:+1000
TZNAME:AEST
DTSTART:20240406T160000
END:STANDARD
BEGIN:DAYLIGHT
TZOFFSETFROM:+1000
TZOFFSETTO:+1100
TZNAME:AEDT
DTSTART:20241005T160000
END:DAYLIGHT
BEGIN:STANDARD
TZOFFSETFROM:+1100
TZOFFSETTO:+1000
TZNAME:AEST
DTSTART:20250405T160000
END:STANDARD
BEGIN:DAYLIGHT
TZOFFSETFROM:+1000
TZOFFSETTO:+1100
TZNAME:AEDT
DTSTART:20251004T160000
END:DAYLIGHT
BEGIN:STANDARD
TZOFFSETFROM:+1100
TZOFFSETTO:+1000
TZNAME:AEST
DTSTART:20260404T160000
END:STANDARD
BEGIN:DAYLIGHT
TZOFFSETFROM:+1000
TZOFFSETTO:+1100
TZNAME:AEDT
DTSTART:20261003T160000
END:DAYLIGHT
END:VTIMEZONE
BEGIN:VEVENT
DTSTART;TZID=Australia/Melbourne:20250901T170000
DTEND;TZID=Australia/Melbourne:20250930T190000
DTSTAMP:20260424T111137
CREATED:20250815T003914Z
LAST-MODIFIED:20250815T003917Z
UID:1273-1756746000-1759258800@jrosenbaum.com.au
SUMMARY:Bunjil Place activation
DESCRIPTION:For the month of September from 5 to 7 pm\, the residents of the CfPA will showcase their works on the massive outdoor screen at Bunjil Place. My artwork\, “Slopocene Icons\,” will be reimagined for Bunjil Place and presented as part of a group of posthuman video and sound works. 
URL:https://jrosenbaum.com.au/event/bunjil-place-activation/
LOCATION:Bunjil Place\, 2 Patrick Northeast Drive\, Narre Warren\, VIC\, 3805\, Australia
ATTACH;FMTTYPE=image/jpeg:https://jrosenbaum.com.au/wp-content/uploads/2025/08/IMG_0931.jpeg
END:VEVENT
END:VCALENDAR